BEGIN:VCALENDAR
VERSION:2.0
PRODID:icalendar-ruby
CALSCALE:GREGORIAN
METHOD:PUBLISH
BEGIN:VEVENT
DTSTAMP:20260420T113110Z
UID:24-206909@fairwoodumc.org
DTSTART;VALUE=DATE:20260425
DTEND;VALUE=DATE:20260425
CLASS:PUBLIC
CREATED:20260406T122347
DESCRIPTION:Our team helps every year with the Rebuilding Together Organiza
 tion to help those who need repairs to houses. This year includes electric
 al\, plumbing\, wheelchair ramp construction and yardwork. Our team is ful
 l for this year but contact our Missions group if your interested for next
  spring.\n
LAST-MODIFIED:20260406T122347
LOCATION:
SUMMARY:Rebuilding Together
URL;VALUE=URI:https://www.fairwoodumc.org/events/rebuilding-together/2026-0
 4-25
ATTACH;FILENAME=Rebuildtogether.png;FMTTYPE=image/png:https://dq5pwpg1q8ru0
 .cloudfront.net/2026/04/05/18/14/12/5231dc2c-c97b-4b10-8d49-305c8965b5ac/R
 ebuildtogether.png
END:VEVENT
END:VCALENDAR
